BEGIN:VCALENDAR
VERSION:2.0
PRODID:-//wp-events-plugin.com//6.6.5//EN
BEGIN:VEVENT
UID:160@oldmillfieldiangolfingsociety.com
DTSTART:20190329T120000Z
DTEND:20190331T183000Z
DTSTAMP:20181106T100556Z
URL:https://oldmillfieldiangolfingsociety.com/events/brent-knoll-bowl/
SUMMARY:Brent Knoll Bowl
DESCRIPTION:Brent Knoll Bowl at Burnham &amp\; Berrow GC\n\nTeam of 3 pairs
 \, scratch foursomes.  Knockout competition for 16 teams.\n\n
LOCATION:Burnham & Berrow Golf Club\, St Christophers Way\, Burnham-on-Sea\
 , Somerset\, TA8 2PE\, United Kingdom
GEO:51.2519313;-3.0028561999999965
X-APPLE-STRUCTURED-LOCATION;VALUE=URI;X-ADDRESS=St Christophers Way\, Burnh
 am-on-Sea\, Somerset\, TA8 2PE\, United Kingdom;X-APPLE-RADIUS=100;X-TITLE
 =Burnham & Berrow Golf Club:geo:51.2519313,-3.0028561999999965
END:VEVENT
END:VCALENDAR