BEGIN:VCALENDAR
VERSION:2.0
PRODID:-//wp-events-plugin.com//6.6.5//EN
BEGIN:VEVENT
UID:162@oldmillfieldiangolfingsociety.com
DTSTART:20190519T110000Z
DTEND:20190519T170000Z
DTSTAMP:20181106T101554Z
URL:https://oldmillfieldiangolfingsociety.com/events/grafton-morrish-quali
 fier/
SUMMARY:Grafton Morrish Qualifier
DESCRIPTION:Grafton Morrish qualifier at North Hants GC\n\n
LOCATION:North Hants Golf Club\, Minley Rd\, \, Fleet\,\, GU51 1RF\, United
  Kingdom
GEO:51.296207342897944;-0.8315725841308677
X-APPLE-STRUCTURED-LOCATION;VALUE=URI;X-ADDRESS=Minley Rd\, \, Fleet\,\, GU
 51 1RF\, United Kingdom;X-APPLE-RADIUS=100;X-TITLE=North Hants Golf Club:g
 eo:51.296207342897944,-0.8315725841308677
END:VEVENT
END:VCALENDAR