BEGIN:VCALENDAR
VERSION:2.0
PRODID:-//wp-events-plugin.com//6.6.5//EN
BEGIN:VEVENT
UID:159@oldmillfieldiangolfingsociety.com
DTSTART;VALUE=DATE:20181014
DTEND;VALUE=DATE:20181015
DTSTAMP:20180815T150948Z
URL:https://oldmillfieldiangolfingsociety.com/events/match-vs-millfield-sc
 hool-team/
SUMMARY:Match vs Millfield school team
DESCRIPTION:
LOCATION:Burnham & Berrow Golf Club\, St Christophers Way\, Burnham-on-Sea\
 , Somerset\, TA8 2PE\, United Kingdom
GEO:51.2519313;-3.0028561999999965
X-APPLE-STRUCTURED-LOCATION;VALUE=URI;X-ADDRESS=St Christophers Way\, Burnh
 am-on-Sea\, Somerset\, TA8 2PE\, United Kingdom;X-APPLE-RADIUS=100;X-TITLE
 =Burnham & Berrow Golf Club:geo:51.2519313,-3.0028561999999965
END:VEVENT
END:VCALENDAR