BEGIN:VCALENDAR
VERSION:2.0
PRODID:-//wp-events-plugin.com//6.6.5//EN
BEGIN:VEVENT
UID:161@oldmillfieldiangolfingsociety.com
DTSTART:20190426T100000Z
DTEND:20190426T173000Z
DTSTAMP:20181106T100817Z
URL:https://oldmillfieldiangolfingsociety.com/events/om-golf-charity-golf-
 day/
SUMMARY:OM Golf Charity Golf Day
DESCRIPTION:OM Golf Charity Golf Day at Bowood Hotel Spa &amp\; Golf Resort
  – 18 holes\, teams of 4-balls\, individual and team prizes.\n\n
LOCATION:Bowood Hotel\, Spa & Golf Resort\, Derry Hill\,\, Calne\,\, SN11 9
 PQ\, United Kingdom
GEO:51.42940629338708;-2.0361759208758485
X-APPLE-STRUCTURED-LOCATION;VALUE=URI;X-ADDRESS=Derry Hill\,\, Calne\,\, SN
 11 9PQ\, United Kingdom;X-APPLE-RADIUS=100;X-TITLE=Bowood Hotel\, Spa & Go
 lf Resort:geo:51.42940629338708,-2.0361759208758485
END:VEVENT
END:VCALENDAR